BEGIN:VCALENDAR
VERSION:2.0
PRODID:Events Booking
BEGIN:VEVENT
UID:69e5953516371
SUMMARY:Concert de printemps 
DESCRIPTION:Concert gratuit de l’Union Musicale de Jougne\, Orchestre d
 ’Harmonie du Haut Doubs en  l’église de Chapelle des bois. 
 pot d
 e l’amitié offert par la Mairie 🥳
LOCATION:Église Saint-Jean-Baptiste\, Route Principale\, Chapelle-des-Bois
 \, 25240 Bourgogne-Franche-Comté
DTSTART:20260424T183000Z
DTEND:20260424T200000Z
DTSTAMP:20260419T164340Z
ORGANIZER;CN=Sortir Haut-Doubs:MAILTO:admin@sortirhautdoubs.fr
GEO:46.597625;6.114192
X-APPLE-STRUCTURED-LOCATION;VALUE=URI;X-ADDRESS=Église Saint-Jean-Baptiste
 \, Route Principale\, Chapelle-des-Bois\, 25240 Bourgogne-Franche-Comté;X
 -APPLE-RADIUS=72;X-TITLE=Chapelle-des-Bois - Église Saint-Jean-Baptiste:4
 6.597625;6.114192
END:VEVENT
END:VCALENDAR